BEGIN:VCALENDAR
VERSION:2.0
PRODID:-//www.lyss.ch//NONSGML kigkonsult.se ICALCREATOR_VERSION//
CALSCALE:GREGORIAN
METHOD:PUBLISH
X-WR-TIMEZONE','EUROPE/BERLIN:
BEGIN:VEVENT
UID:20260423T135154CEST-9139oa0dso@www.lyss.ch
DTSTAMP:20260423T115154Z
DESCRIPTION:Klicken Sie auf den folgenden Link\, um weitere Informationen z
 ur Veranstaltung zu erhalten:\nhttp://www.lyss.ch/de/veranstaltungen/detai
 l/detail.php?i=3725
DTSTART:20260425T140000
DTEND:20260425T150000
LOCATION:KUFA Lyss
SUMMARY:Kinderevent Evolon - Zauberkünstler Kalman in der KUFA
END:VEVENT
END:VCALENDAR
