BEGIN:VCALENDAR
VERSION:2.0
PRODID:-//www.lyss.ch//NONSGML kigkonsult.se ICALCREATOR_VERSION//
CALSCALE:GREGORIAN
METHOD:PUBLISH
X-WR-TIMEZONE','EUROPE/BERLIN:
BEGIN:VEVENT
UID:20260420T170526CEST-6414gk72wj@www.lyss.ch
DTSTAMP:20260420T150526Z
DESCRIPTION:Klicken Sie auf den folgenden Link\, um weitere Informationen z
 ur Veranstaltung zu erhalten:\nhttp://www.lyss.ch/de/veranstaltungen/detai
 l/detail.php?i=3674
DTSTART:20260521T093000
DTEND:20260521T110000
LOCATION:Mütter- und Väterberatung Lyss
SUMMARY:Einführung Beikost: Wann\, wie\, was?
END:VEVENT
END:VCALENDAR
