BEGIN:VCALENDAR
VERSION:2.0
PRODID:-//www.lyss.ch//NONSGML kigkonsult.se ICALCREATOR_VERSION//
CALSCALE:GREGORIAN
METHOD:PUBLISH
X-WR-TIMEZONE','EUROPE/BERLIN:
BEGIN:VEVENT
UID:20260420T103928CEST-75943xG3I4@www.lyss.ch
DTSTAMP:20260420T083928Z
DESCRIPTION:Klicken Sie auf den folgenden Link\, um weitere Informationen z
 ur Veranstaltung zu erhalten:\nhttp://www.lyss.ch/de/veranstaltungen/detai
 l/detail.php?i=3509
DTSTART:20260306T190000
DTEND:20260306T230000
LOCATION:Kulturfabrik KUFA Lyss
SUMMARY:Mit Linggs - Pedro Lenz und Simon Ho
END:VEVENT
END:VCALENDAR
