BEGIN:VCALENDAR
VERSION:2.0
PRODID:-//www.lyss.ch//NONSGML kigkonsult.se ICALCREATOR_VERSION//
CALSCALE:GREGORIAN
METHOD:PUBLISH
X-WR-TIMEZONE','EUROPE/BERLIN:
BEGIN:VEVENT
UID:20260423T104938CEST-0414Lukzcs@www.lyss.ch
DTSTAMP:20260423T084938Z
DESCRIPTION:Klicken Sie auf den folgenden Link\, um weitere Informationen z
 ur Veranstaltung zu erhalten:\nhttp://www.lyss.ch/de/veranstaltungen/detai
 l/detail.php?i=2534
DTSTART:20240907T090000
DTEND:20240907T130000
LOCATION:Marktplatz
SUMMARY:Üse Lysser Märit – Themenanlass Aues ume Öpfu
END:VEVENT
END:VCALENDAR
