BEGIN:VCALENDAR
VERSION:2.0
PRODID:-//www.lyss.ch//NONSGML kigkonsult.se ICALCREATOR_VERSION//
CALSCALE:GREGORIAN
METHOD:PUBLISH
X-WR-TIMEZONE','EUROPE/BERLIN:
BEGIN:VEVENT
UID:20260420T142609CEST-9001CnFVex@www.lyss.ch
DTSTAMP:20260420T122609Z
DESCRIPTION:Klicken Sie auf den folgenden Link\, um weitere Informationen z
 ur Veranstaltung zu erhalten:\nhttp://www.lyss.ch/de/veranstaltungen/detai
 l/detail.php?i=2506
DTSTART:20231017T140000
DTEND:20231017T163000
LOCATION:Sieberhuus
SUMMARY:Generationen-Treff im Sieberhuus
END:VEVENT
END:VCALENDAR
