BEGIN:VCALENDAR
VERSION:2.0
PRODID:-//www.lyss.ch//NONSGML kigkonsult.se ICALCREATOR_VERSION//
CALSCALE:GREGORIAN
METHOD:PUBLISH
X-WR-TIMEZONE','EUROPE/BERLIN:
BEGIN:VEVENT
UID:20260420T142447CEST-65577IvRcz@www.lyss.ch
DTSTAMP:20260420T122447Z
DESCRIPTION:Klicken Sie auf den folgenden Link\, um weitere Informationen z
 ur Veranstaltung zu erhalten:\nhttp://www.lyss.ch/de/veranstaltungen/detai
 l/detail.php?i=2496
DTSTART:20231017T140000
DTEND:20231017T160000
LOCATION:Salzbütti 
SUMMARY:Tag der betreuenden Angehörigen 2023
END:VEVENT
END:VCALENDAR
