BEGIN:VCALENDAR
VERSION:2.0
PRODID:-//www.lyss.ch//NONSGML kigkonsult.se ICALCREATOR_VERSION//
CALSCALE:GREGORIAN
METHOD:PUBLISH
X-WR-TIMEZONE','EUROPE/BERLIN:
BEGIN:VEVENT
UID:20260420T142459CEST-04136tGbpf@www.lyss.ch
DTSTAMP:20260420T122459Z
DESCRIPTION:Klicken Sie auf den folgenden Link\, um weitere Informationen z
 ur Veranstaltung zu erhalten:\nhttp://www.lyss.ch/de/veranstaltungen/detai
 l/detail.php?i=2479
DTSTART:20231018T093000
DTEND:20231018T103000
LOCATION:Seeland Center\, Secret Dance
SUMMARY:Kangatraining
END:VEVENT
END:VCALENDAR
