BEGIN:VCALENDAR
VERSION:2.0
PRODID:-//www.lyss.ch//NONSGML kigkonsult.se ICALCREATOR_VERSION//
CALSCALE:GREGORIAN
METHOD:PUBLISH
X-WR-TIMEZONE','EUROPE/BERLIN:
BEGIN:VEVENT
UID:20260420T142447CEST-7969XDpDUJ@www.lyss.ch
DTSTAMP:20260420T122447Z
DESCRIPTION:Klicken Sie auf den folgenden Link\, um weitere Informationen z
 ur Veranstaltung zu erhalten:\nhttp://www.lyss.ch/de/veranstaltungen/detai
 l/detail.php?i=2376
DTSTART:20230913T190000
DTEND:20231206T210000
LOCATION:Lyss
SUMMARY:Klöppelspitzen traditionell und modern
END:VEVENT
END:VCALENDAR
