BEGIN:VCALENDAR
VERSION:2.0
PRODID:-//www.lyss.ch//NONSGML kigkonsult.se ICALCREATOR_VERSION//
CALSCALE:GREGORIAN
METHOD:PUBLISH
X-WR-TIMEZONE','EUROPE/BERLIN:
BEGIN:VEVENT
UID:20260420T142515CEST-4674vh0laM@www.lyss.ch
DTSTAMP:20260420T122515Z
DESCRIPTION:Klicken Sie auf den folgenden Link\, um weitere Informationen z
 ur Veranstaltung zu erhalten:\nhttp://www.lyss.ch/de/veranstaltungen/detai
 l/detail.php?i=2375
DTSTART:20230904T190000
DTEND:20231211T210000
LOCATION:Lyss
SUMMARY:Klöppelspitzen traditionell und modern
END:VEVENT
END:VCALENDAR
