BEGIN:VCALENDAR
VERSION:2.0
PRODID:-//www.lyss.ch//NONSGML kigkonsult.se ICALCREATOR_VERSION//
CALSCALE:GREGORIAN
METHOD:PUBLISH
X-WR-TIMEZONE','EUROPE/BERLIN:
BEGIN:VEVENT
UID:20260420T142602CEST-4762cZX8S1@www.lyss.ch
DTSTAMP:20260420T122602Z
DESCRIPTION:Klicken Sie auf den folgenden Link\, um weitere Informationen z
 ur Veranstaltung zu erhalten:\nhttp://www.lyss.ch/de/veranstaltungen/detai
 l/detail.php?i=2118
DTSTART:20230314T000000
DTEND:20231107T000000
LOCATION:Netzwärkstatt
SUMMARY:Gruppenkurs Gewichtsreduktion
END:VEVENT
END:VCALENDAR
