BEGIN:VCALENDAR
VERSION:2.0
PRODID:-//www.lyss.ch//NONSGML kigkonsult.se ICALCREATOR_VERSION//
CALSCALE:GREGORIAN
METHOD:PUBLISH
X-WR-TIMEZONE','EUROPE/BERLIN:
BEGIN:VEVENT
UID:20260423T105537CEST-1795vZvEaW@www.lyss.ch
DTSTAMP:20260423T085537Z
DESCRIPTION:Klicken Sie auf den folgenden Link\, um weitere Informationen z
 ur Veranstaltung zu erhalten:\nhttp://www.lyss.ch/de/veranstaltungen/detai
 l/detail.php?i=1872
DTSTART:20220801T170000
DTEND:20220801T223000
LOCATION:Marktplatz Lyss
SUMMARY:Bundesfeier auf dem Marktplatz Lyss
END:VEVENT
END:VCALENDAR
