BEGIN:VCALENDAR
VERSION:2.0
PRODID:-//www.lyss.ch//NONSGML kigkonsult.se ICALCREATOR_VERSION//
CALSCALE:GREGORIAN
METHOD:PUBLISH
X-WR-TIMEZONE','EUROPE/BERLIN:
BEGIN:VEVENT
UID:20260422T110346CEST-3690Vj2sge@www.lyss.ch
DTSTAMP:20260422T090346Z
DESCRIPTION:Klicken Sie auf den folgenden Link\, um weitere Informationen z
 ur Veranstaltung zu erhalten:\nhttp://www.lyss.ch/de/veranstaltungen/detai
 l/detail.php?i=1684
DTSTART:20250623T193000
DTEND:20250623T213000
LOCATION:Hotel Weisses Kreuz
SUMMARY:GGR-Sitzung vom 23.06.2025
END:VEVENT
END:VCALENDAR
